Package: wavClusteR Version: 2.38.0 Command: /Library/Frameworks/R.framework/Resources/bin/R CMD INSTALL wavClusteR StartedAt: 2024-06-09 15:19:35 -0400 (Sun, 09 Jun 2024) EndedAt: 2024-06-09 15:20:24 -0400 (Sun, 09 Jun 2024) EllapsedTime: 49.4 seconds RetCode: 0 Status: OK