Package: wavClusteR Version: 2.38.0 Command: rm -rf wavClusteR.buildbin-libdir && mkdir wavClusteR.buildbin-libdir && /Users/biocbuild/BBS/utils/build-universal.sh wavClusteR_2.38.0.tar.gz /Library/Frameworks/R.framework/Resources/bin/R wavClusteR.buildbin-libdir StartedAt: 2024-06-11 13:43:17 -0400 (Tue, 11 Jun 2024) EndedAt: 2024-06-11 13:44:21 -0400 (Tue, 11 Jun 2024) EllapsedTime: 64.1 seconds RetCode: 0 Status: OK PackageFile: wavClusteR_2.38.0.tgz PackageFileSize: 895.1 KiB