Package: wateRmelon Version: 2.10.0 Command: F:\biocbuild\bbs-3.19-bioc\R\bin\R.exe CMD INSTALL wateRmelon StartedAt: 2024-06-26 16:51:31 -0400 (Wed, 26 Jun 2024) EndedAt: 2024-06-26 16:52:59 -0400 (Wed, 26 Jun 2024) EllapsedTime: 88.6 seconds RetCode: 0 Status: OK