Package: wateRmelon Version: 2.10.0 Command: /Library/Frameworks/R.framework/Resources/bin/R CMD check --install=check:wateRmelon.install-out.txt --library=/Library/Frameworks/R.framework/Resources/library --no-vignettes --timings wateRmelon_2.10.0.tar.gz StartedAt: 2024-10-17 15:04:09 -0400 (Thu, 17 Oct 2024) EndedAt: 2024-10-17 15:17:38 -0400 (Thu, 17 Oct 2024) EllapsedTime: 808.2 seconds RetCode: 0 Status: WARNINGS CheckDir: wateRmelon.Rcheck Warnings: 5