Package: wateRmelon Version: 2.10.0 Command: /Library/Frameworks/R.framework/Resources/bin/R CMD INSTALL wateRmelon StartedAt: 2024-06-09 15:43:17 -0400 (Sun, 09 Jun 2024) EndedAt: 2024-06-09 15:44:29 -0400 (Sun, 09 Jun 2024) EllapsedTime: 72.2 seconds RetCode: 0 Status: OK