Package: wateRmelon Version: 2.10.0 Command: /Library/Frameworks/R.framework/Resources/bin/R CMD check --install=check:wateRmelon.install-out.txt --library=/Library/Frameworks/R.framework/Resources/library --no-vignettes --timings wateRmelon_2.10.0.tar.gz StartedAt: 2024-10-18 16:39:56 -0400 (Fri, 18 Oct 2024) EndedAt: 2024-10-18 16:48:21 -0400 (Fri, 18 Oct 2024) EllapsedTime: 504.7 seconds RetCode: 0 Status: WARNINGS CheckDir: wateRmelon.Rcheck Warnings: 5