Package: wateRmelon Version: 2.10.0 Command: rm -rf wateRmelon.buildbin-libdir && mkdir wateRmelon.buildbin-libdir && /Users/biocbuild/BBS/utils/build-universal.sh wateRmelon_2.10.0.tar.gz /Library/Frameworks/R.framework/Resources/bin/R wateRmelon.buildbin-libdir StartedAt: 2024-10-15 20:49:16 -0400 (Tue, 15 Oct 2024) EndedAt: 2024-10-15 20:50:38 -0400 (Tue, 15 Oct 2024) EllapsedTime: 81.7 seconds RetCode: 0 Status: OK PackageFile: wateRmelon_2.10.0.tgz PackageFileSize: 3.68 MiB