Package: wateRmelon Version: 2.10.0 Maintainer: Leo C Schalkwyk MaintainerEmail: lschal at essex.ac.uk git_url: https://git.bioconductor.org/packages/wateRmelon git_branch: RELEASE_3_19 git_last_commit: 0e0ae03 git_last_commit_date: 2024-04-30 10:29:52 -0400 (Tue, 30 Apr 2024)