Package: waddR Version: 1.18.0 Command: F:\biocbuild\bbs-3.19-bioc\R\bin\R.exe CMD check --no-multiarch --install=check:waddR.install-out.txt --library=F:\biocbuild\bbs-3.19-bioc\R\library --no-vignettes --timings waddR_1.18.0.tar.gz StartedAt: 2024-06-13 13:57:12 -0400 (Thu, 13 Jun 2024) EndedAt: 2024-06-13 14:22:36 -0400 (Thu, 13 Jun 2024) EllapsedTime: 1523.7 seconds RetCode: 1 Status: ERROR CheckDir: waddR.Rcheck Warnings: NA