Package: waddR Version: 1.18.0 Command: chmod a+r waddR -R && F:\biocbuild\bbs-3.19-bioc\R\bin\R.exe CMD build --keep-empty-dirs --no-resave-data waddR StartedAt: 2024-06-26 22:34:30 -0400 (Wed, 26 Jun 2024) EndedAt: 2024-06-26 22:37:02 -0400 (Wed, 26 Jun 2024) EllapsedTime: 152.4 seconds RetCode: 1 Status: ERROR PackageFile: None PackageFileSize: NA