Package: waddR Version: 1.18.0 Command: rm -rf waddR.buildbin-libdir && mkdir waddR.buildbin-libdir && F:\biocbuild\bbs-3.19-bioc\R\bin\R.exe CMD INSTALL --build --library=waddR.buildbin-libdir waddR_1.18.0.tar.gz StartedAt: 2024-06-13 17:43:01 -0400 (Thu, 13 Jun 2024) EndedAt: 2024-06-13 17:45:31 -0400 (Thu, 13 Jun 2024) EllapsedTime: 150.0 seconds RetCode: 0 Status: OK PackageFile: waddR_1.18.0.zip PackageFileSize: 516.9 KiB