Package: waddR Version: 1.18.0 Command: /home/biocbuild/bbs-3.19-bioc/R/bin/R CMD build --keep-empty-dirs --no-resave-data waddR StartedAt: 2024-10-16 21:21:20 -0400 (Wed, 16 Oct 2024) EndedAt: 2024-10-16 21:23:06 -0400 (Wed, 16 Oct 2024) EllapsedTime: 106.2 seconds RetCode: 0 Status: OK PackageFile: waddR_1.18.0.tar.gz PackageFileSize: 152 KiB