Package: waddR Version: 1.18.0 Command: /Library/Frameworks/R.framework/Resources/bin/R CMD INSTALL waddR StartedAt: 2024-10-16 15:28:08 -0400 (Wed, 16 Oct 2024) EndedAt: 2024-10-16 15:29:45 -0400 (Wed, 16 Oct 2024) EllapsedTime: 96.2 seconds RetCode: 0 Status: OK