Package: waddR Version: 1.18.0 Command: /Library/Frameworks/R.framework/Resources/bin/R CMD INSTALL waddR StartedAt: 2024-06-09 15:27:54 -0400 (Sun, 09 Jun 2024) EndedAt: 2024-06-09 15:28:50 -0400 (Sun, 09 Jun 2024) EllapsedTime: 55.6 seconds RetCode: 0 Status: OK