Package: waddR Version: 1.18.0 Command: /home/biocbuild/R/R-beta-2024-04-15_r86425/bin/R CMD build --keep-empty-dirs --no-resave-data waddR StartedAt: 2024-05-09 04:21:56 -0000 (Thu, 09 May 2024) EndedAt: 2024-05-09 04:24:29 -0000 (Thu, 09 May 2024) EllapsedTime: 152.2 seconds RetCode: 0 Status: OK PackageFile: waddR_1.18.0.tar.gz PackageFileSize: 157.6 KiB