Package: waddR Version: 1.18.0 Command: /Library/Frameworks/R.framework/Resources/bin/R CMD build --keep-empty-dirs --no-resave-data waddR StartedAt: 2024-10-17 11:30:37 -0400 (Thu, 17 Oct 2024) EndedAt: 2024-10-17 11:32:10 -0400 (Thu, 17 Oct 2024) EllapsedTime: 93.2 seconds RetCode: 1 Status: ERROR PackageFile: None PackageFileSize: NA