Package: waddR Version: 1.18.0 Maintainer: Julian Flesch MaintainerEmail: julianflesch at gmail.com git_url: https://git.bioconductor.org/packages/waddR git_branch: RELEASE_3_19 git_last_commit: 08c5d0f git_last_commit_date: 2024-04-30 11:18:25 -0400 (Tue, 30 Apr 2024)