Package: vulcan Version: 1.26.0 Command: chmod a+r vulcan -R && E:\biocbuild\bbs-3.19-bioc\R\bin\R.exe CMD build --keep-empty-dirs --no-resave-data vulcan StartedAt: 2024-10-16 22:31:06 -0400 (Wed, 16 Oct 2024) EndedAt: 2024-10-16 22:32:45 -0400 (Wed, 16 Oct 2024) EllapsedTime: 99.4 seconds RetCode: 0 Status: OK PackageFile: vulcan_1.26.0.tar.gz PackageFileSize: 254.5 KiB