Package: vulcan Version: 1.26.0 Command: rm -rf vulcan.buildbin-libdir && mkdir vulcan.buildbin-libdir && E:\biocbuild\bbs-3.19-bioc\R\bin\R.exe CMD INSTALL --build --library=vulcan.buildbin-libdir vulcan_1.26.0.tar.gz StartedAt: 2024-10-17 08:50:45 -0400 (Thu, 17 Oct 2024) EndedAt: 2024-10-17 08:51:55 -0400 (Thu, 17 Oct 2024) EllapsedTime: 69.4 seconds RetCode: 0 Status: OK PackageFile: vulcan_1.26.0.zip PackageFileSize: 330.1 KiB