Package: vtpnet Version: 0.44.0 Command: E:\biocbuild\bbs-3.19-bioc\R\bin\R.exe CMD check --no-multiarch --install=check:vtpnet.install-out.txt --library=E:\biocbuild\bbs-3.19-bioc\R\library --no-vignettes --timings vtpnet_0.44.0.tar.gz StartedAt: 2024-10-17 06:53:10 -0400 (Thu, 17 Oct 2024) EndedAt: 2024-10-17 06:59:15 -0400 (Thu, 17 Oct 2024) EllapsedTime: 364.8 seconds RetCode: 0 Status: OK CheckDir: vtpnet.Rcheck Warnings: 0