Package: vtpnet Version: 0.44.0 Command: chmod a+r vtpnet -R && F:\biocbuild\bbs-3.19-bioc\R\bin\R.exe CMD build --keep-empty-dirs --no-resave-data vtpnet StartedAt: 2024-06-26 22:34:07 -0400 (Wed, 26 Jun 2024) EndedAt: 2024-06-26 22:35:53 -0400 (Wed, 26 Jun 2024) EllapsedTime: 105.8 seconds RetCode: 0 Status: OK PackageFile: vtpnet_0.44.0.tar.gz PackageFileSize: 20.12 MiB