Package: vtpnet Version: 0.44.0 Command: rm -rf vtpnet.buildbin-libdir && mkdir vtpnet.buildbin-libdir && F:\biocbuild\bbs-3.19-bioc\R\bin\R.exe CMD INSTALL --build --library=vtpnet.buildbin-libdir vtpnet_0.44.0.tar.gz StartedAt: 2024-06-27 09:06:06 -0400 (Thu, 27 Jun 2024) EndedAt: 2024-06-27 09:07:01 -0400 (Thu, 27 Jun 2024) EllapsedTime: 55.9 seconds RetCode: 0 Status: OK PackageFile: vtpnet_0.44.0.zip PackageFileSize: 20.13 MiB