Package: vtpnet Version: 0.44.0 Command: /Library/Frameworks/R.framework/Resources/bin/R CMD check --install=check:vtpnet.install-out.txt --library=/Library/Frameworks/R.framework/Resources/library --no-vignettes --timings vtpnet_0.44.0.tar.gz StartedAt: 2024-10-17 15:04:06 -0400 (Thu, 17 Oct 2024) EndedAt: 2024-10-17 15:15:05 -0400 (Thu, 17 Oct 2024) EllapsedTime: 658.8 seconds RetCode: 0 Status: OK CheckDir: vtpnet.Rcheck Warnings: 0