Package: vtpnet Version: 0.44.0 Command: /Library/Frameworks/R.framework/Resources/bin/R CMD check --install=check:vtpnet.install-out.txt --library=/Library/Frameworks/R.framework/Resources/library --no-vignettes --timings vtpnet_0.44.0.tar.gz StartedAt: 2024-06-09 23:48:34 -0400 (Sun, 09 Jun 2024) EndedAt: 2024-06-09 23:53:49 -0400 (Sun, 09 Jun 2024) EllapsedTime: 314.9 seconds RetCode: 0 Status: OK CheckDir: vtpnet.Rcheck Warnings: 0