Package: vtpnet Version: 0.44.0 Command: /Library/Frameworks/R.framework/Resources/bin/R CMD build --keep-empty-dirs --no-resave-data vtpnet StartedAt: 2024-06-09 18:31:54 -0400 (Sun, 09 Jun 2024) EndedAt: 2024-06-09 18:33:29 -0400 (Sun, 09 Jun 2024) EllapsedTime: 95.5 seconds RetCode: 0 Status: OK PackageFile: vtpnet_0.44.0.tar.gz PackageFileSize: 20.22 MiB