Package: vtpnet Version: 0.44.0 Command: /home/biocbuild/R/R-beta-2024-04-15_r86425/bin/R CMD build --keep-empty-dirs --no-resave-data vtpnet StartedAt: 2024-05-09 04:21:09 -0000 (Thu, 09 May 2024) EndedAt: 2024-05-09 04:23:01 -0000 (Thu, 09 May 2024) EllapsedTime: 111.1 seconds RetCode: 0 Status: OK PackageFile: vtpnet_0.44.0.tar.gz PackageFileSize: 20.22 MiB