Package: vtpnet Version: 0.44.0 Command: /Library/Frameworks/R.framework/Resources/bin/R CMD build --keep-empty-dirs --no-resave-data vtpnet StartedAt: 2024-06-10 06:34:27 -0400 (Mon, 10 Jun 2024) EndedAt: 2024-06-10 06:37:00 -0400 (Mon, 10 Jun 2024) EllapsedTime: 152.9 seconds RetCode: 0 Status: OK PackageFile: vtpnet_0.44.0.tar.gz PackageFileSize: 20.22 MiB