Package: vtpnet Version: 0.44.0 Command: /Library/Frameworks/R.framework/Resources/bin/R CMD INSTALL vtpnet StartedAt: 2024-10-16 18:16:09 -0400 (Wed, 16 Oct 2024) EndedAt: 2024-10-16 18:17:12 -0400 (Wed, 16 Oct 2024) EllapsedTime: 62.5 seconds RetCode: 0 Status: OK