Package: vsn Version: 3.72.0 Command: /Library/Frameworks/R.framework/Resources/bin/R CMD build --keep-empty-dirs --no-resave-data vsn StartedAt: 2024-10-17 11:29:08 -0400 (Thu, 17 Oct 2024) EndedAt: 2024-10-17 11:30:16 -0400 (Thu, 17 Oct 2024) EllapsedTime: 68.5 seconds RetCode: 0 Status: OK PackageFile: vsn_3.72.0.tar.gz PackageFileSize: 2.252 MiB