Package: vsclust Version: 1.6.0 Command: E:\biocbuild\bbs-3.19-bioc\R\bin\R.exe CMD INSTALL vsclust StartedAt: 2024-10-16 16:40:07 -0400 (Wed, 16 Oct 2024) EndedAt: 2024-10-16 16:40:50 -0400 (Wed, 16 Oct 2024) EllapsedTime: 42.2 seconds RetCode: 0 Status: OK