Package: vsclust Version: 1.6.0 Command: chmod a+r vsclust -R && E:\biocbuild\bbs-3.19-bioc\R\bin\R.exe CMD build --keep-empty-dirs --no-resave-data vsclust StartedAt: 2024-10-16 22:30:38 -0400 (Wed, 16 Oct 2024) EndedAt: 2024-10-16 22:33:29 -0400 (Wed, 16 Oct 2024) EllapsedTime: 170.9 seconds RetCode: 0 Status: OK PackageFile: vsclust_1.6.0.tar.gz PackageFileSize: 1.836 MiB