Package: vsclust Version: 1.6.0 Command: rm -rf vsclust.buildbin-libdir && mkdir vsclust.buildbin-libdir && E:\biocbuild\bbs-3.19-bioc\R\bin\R.exe CMD INSTALL --build --library=vsclust.buildbin-libdir vsclust_1.6.0.tar.gz StartedAt: 2024-10-17 08:50:40 -0400 (Thu, 17 Oct 2024) EndedAt: 2024-10-17 08:51:28 -0400 (Thu, 17 Oct 2024) EllapsedTime: 48.4 seconds RetCode: 0 Status: OK PackageFile: vsclust_1.6.0.zip PackageFileSize: 2.258 MiB