Package: vsclust Version: 1.6.0 Command: F:\biocbuild\bbs-3.19-bioc\R\bin\R.exe CMD INSTALL vsclust StartedAt: 2024-06-26 16:16:10 -0400 (Wed, 26 Jun 2024) EndedAt: 2024-06-26 16:17:05 -0400 (Wed, 26 Jun 2024) EllapsedTime: 54.9 seconds RetCode: 0 Status: OK