Package: vsclust Version: 1.6.0 Command: F:\biocbuild\bbs-3.19-bioc\R\bin\R.exe CMD check --no-multiarch --install=check:vsclust.install-out.txt --library=F:\biocbuild\bbs-3.19-bioc\R\library --no-vignettes --timings vsclust_1.6.0.tar.gz StartedAt: 2024-06-27 07:21:09 -0400 (Thu, 27 Jun 2024) EndedAt: 2024-06-27 07:27:28 -0400 (Thu, 27 Jun 2024) EllapsedTime: 379.3 seconds RetCode: 0 Status: WARNINGS CheckDir: vsclust.Rcheck Warnings: 1