Package: vsclust Version: 1.6.0 Command: /home/biocbuild/bbs-3.19-bioc/R/bin/R CMD check --install=check:vsclust.install-out.txt --library=/home/biocbuild/bbs-3.19-bioc/R/site-library --timings vsclust_1.6.0.tar.gz StartedAt: 2024-10-17 06:17:44 -0400 (Thu, 17 Oct 2024) EndedAt: 2024-10-17 06:24:07 -0400 (Thu, 17 Oct 2024) EllapsedTime: 382.8 seconds RetCode: 0 Status: WARNINGS CheckDir: vsclust.Rcheck Warnings: 1