Package: vsclust Version: 1.6.0 Command: /home/biocbuild/bbs-3.19-bioc/R/bin/R CMD build --keep-empty-dirs --no-resave-data vsclust StartedAt: 2024-10-16 21:20:33 -0400 (Wed, 16 Oct 2024) EndedAt: 2024-10-16 21:22:44 -0400 (Wed, 16 Oct 2024) EllapsedTime: 130.3 seconds RetCode: 0 Status: OK PackageFile: vsclust_1.6.0.tar.gz PackageFileSize: 3.291 MiB