Package: vsclust Version: 1.6.0 Command: /Library/Frameworks/R.framework/Resources/bin/R CMD build --keep-empty-dirs --no-resave-data vsclust StartedAt: 2024-10-17 11:28:24 -0400 (Thu, 17 Oct 2024) EndedAt: 2024-10-17 11:30:50 -0400 (Thu, 17 Oct 2024) EllapsedTime: 145.9 seconds RetCode: 0 Status: OK PackageFile: vsclust_1.6.0.tar.gz PackageFileSize: 3.715 MiB