Package: vsclust Version: 1.6.0 Command: rm -rf vsclust.buildbin-libdir && mkdir vsclust.buildbin-libdir && /Users/biocbuild/BBS/utils/build-universal.sh vsclust_1.6.0.tar.gz /Library/Frameworks/R.framework/Resources/bin/R vsclust.buildbin-libdir StartedAt: 2024-10-15 20:48:41 -0400 (Tue, 15 Oct 2024) EndedAt: 2024-10-15 20:49:29 -0400 (Tue, 15 Oct 2024) EllapsedTime: 47.4 seconds RetCode: 0 Status: OK PackageFile: vsclust_1.6.0.tgz PackageFileSize: 3.834 MiB