Package: vissE Version: 1.12.0 Command: /Library/Frameworks/R.framework/Resources/bin/R CMD INSTALL vissE StartedAt: 2024-06-09 15:43:49 -0400 (Sun, 09 Jun 2024) EndedAt: 2024-06-09 15:43:56 -0400 (Sun, 09 Jun 2024) EllapsedTime: 6.9 seconds RetCode: 0 Status: OK