Package: vissE Version: 1.12.0 Command: /Library/Frameworks/R.framework/Resources/bin/R CMD build --keep-empty-dirs --no-resave-data vissE StartedAt: 2024-06-09 18:31:46 -0400 (Sun, 09 Jun 2024) EndedAt: 2024-06-09 18:37:45 -0400 (Sun, 09 Jun 2024) EllapsedTime: 359.3 seconds RetCode: 0 Status: OK PackageFile: vissE_1.12.0.tar.gz PackageFileSize: 1.649 MiB