Package: vissE Version: 1.12.0 Command: /home/biocbuild/R/R-beta-2024-04-15_r86425/bin/R CMD check --install=check:vissE.install-out.txt --library=/home/biocbuild/R/R-beta-2024-04-15_r86425/site-library --no-vignettes --timings vissE_1.12.0.tar.gz StartedAt: 2024-05-08 13:05:53 -0000 (Wed, 08 May 2024) EndedAt: 2024-05-08 13:08:21 -0000 (Wed, 08 May 2024) EllapsedTime: 147.3 seconds RetCode: 0 Status: OK CheckDir: vissE.Rcheck Warnings: 0