Package: vissE Version: 1.12.0 Command: /Library/Frameworks/R.framework/Resources/bin/R CMD check --install=check:vissE.install-out.txt --library=/Library/Frameworks/R.framework/Resources/library --no-vignettes --timings vissE_1.12.0.tar.gz StartedAt: 2024-06-11 09:30:02 -0400 (Tue, 11 Jun 2024) EndedAt: 2024-06-11 09:33:07 -0400 (Tue, 11 Jun 2024) EllapsedTime: 185.3 seconds RetCode: 0 Status: OK CheckDir: vissE.Rcheck Warnings: 0