Package: viper Version: 1.38.0 Command: F:\biocbuild\bbs-3.19-bioc\R\bin\R.exe CMD check --no-multiarch --install=check:viper.install-out.txt --library=F:\biocbuild\bbs-3.19-bioc\R\library --no-vignettes --timings viper_1.38.0.tar.gz StartedAt: 2024-06-27 07:19:16 -0400 (Thu, 27 Jun 2024) EndedAt: 2024-06-27 07:24:24 -0400 (Thu, 27 Jun 2024) EllapsedTime: 308.5 seconds RetCode: 0 Status: WARNINGS CheckDir: viper.Rcheck Warnings: 1