Package: viper Version: 1.38.0 Command: /home/biocbuild/bbs-3.19-bioc/R/bin/R CMD INSTALL viper StartedAt: 2024-10-16 16:28:19 -0400 (Wed, 16 Oct 2024) EndedAt: 2024-10-16 16:28:32 -0400 (Wed, 16 Oct 2024) EllapsedTime: 12.9 seconds RetCode: 0 Status: OK