Package: viper Version: 1.38.0 Command: /Library/Frameworks/R.framework/Resources/bin/R CMD INSTALL viper StartedAt: 2024-10-16 16:16:28 -0400 (Wed, 16 Oct 2024) EndedAt: 2024-10-16 16:17:00 -0400 (Wed, 16 Oct 2024) EllapsedTime: 32.3 seconds RetCode: 0 Status: OK