Package: viper Version: 1.38.0 Command: /Library/Frameworks/R.framework/Resources/bin/R CMD check --install=check:viper.install-out.txt --library=/Library/Frameworks/R.framework/Resources/library --no-vignettes --timings viper_1.38.0.tar.gz StartedAt: 2024-10-17 14:58:47 -0400 (Thu, 17 Oct 2024) EndedAt: 2024-10-17 15:07:09 -0400 (Thu, 17 Oct 2024) EllapsedTime: 502.3 seconds RetCode: 0 Status: WARNINGS CheckDir: viper.Rcheck Warnings: 1