Package: viper Version: 1.38.0 Command: /Library/Frameworks/R.framework/Resources/bin/R CMD build --keep-empty-dirs --no-resave-data viper StartedAt: 2024-10-17 00:15:01 -0400 (Thu, 17 Oct 2024) EndedAt: 2024-10-17 00:22:43 -0400 (Thu, 17 Oct 2024) EllapsedTime: 461.5 seconds RetCode: 0 Status: OK PackageFile: viper_1.38.0.tar.gz PackageFileSize: 503.6 KiB