Package: viper Version: 1.38.0 Command: rm -rf viper.buildbin-libdir && mkdir viper.buildbin-libdir && /Users/biocbuild/BBS/utils/build-universal.sh viper_1.38.0.tar.gz /Library/Frameworks/R.framework/Resources/bin/R viper.buildbin-libdir StartedAt: 2024-06-10 00:45:17 -0400 (Mon, 10 Jun 2024) EndedAt: 2024-06-10 00:45:38 -0400 (Mon, 10 Jun 2024) EllapsedTime: 21.0 seconds RetCode: 0 Status: OK PackageFile: viper_1.38.0.tgz PackageFileSize: 761.6 KiB