Package: viper Version: 1.38.0 Command: /Library/Frameworks/R.framework/Resources/bin/R CMD check --install=check:viper.install-out.txt --library=/Library/Frameworks/R.framework/Resources/library --no-vignettes --timings viper_1.38.0.tar.gz StartedAt: 2024-10-18 16:30:12 -0400 (Fri, 18 Oct 2024) EndedAt: 2024-10-18 16:34:52 -0400 (Fri, 18 Oct 2024) EllapsedTime: 280.7 seconds RetCode: 0 Status: WARNINGS CheckDir: viper.Rcheck Warnings: 1