Package: vidger Version: 1.24.0 Command: rm -rf vidger.buildbin-libdir && mkdir vidger.buildbin-libdir && F:\biocbuild\bbs-3.19-bioc\R\bin\R.exe CMD INSTALL --build --library=vidger.buildbin-libdir vidger_1.24.0.tar.gz StartedAt: 2024-06-27 09:05:49 -0400 (Thu, 27 Jun 2024) EndedAt: 2024-06-27 09:06:49 -0400 (Thu, 27 Jun 2024) EllapsedTime: 59.4 seconds RetCode: 0 Status: OK PackageFile: vidger_1.24.0.zip PackageFileSize: 5.468 MiB